BEGIN:VCALENDAR
VERSION:2.0
PRODID:-//Kipcon - ECPv6.15.20//NONSGML v1.0//EN
CALSCALE:GREGORIAN
METHOD:PUBLISH
X-ORIGINAL-URL:https://kipconengineering.com
X-WR-CALDESC:Events for Kipcon
REFRESH-INTERVAL;VALUE=DURATION:PT1H
X-Robots-Tag:noindex
X-PUBLISHED-TTL:PT1H
BEGIN:VTIMEZONE
TZID:Asia/Karachi
BEGIN:STANDARD
TZOFFSETFROM:+0500
TZOFFSETTO:+0500
TZNAME:PKT
DTSTART:20230101T000000
END:STANDARD
END:VTIMEZONE
BEGIN:VEVENT
DTSTART;TZID=Asia/Karachi:20240410T093000
DTEND;TZID=Asia/Karachi:20240410T103000
DTSTAMP:20260424T124925
CREATED:20231211T212643Z
LAST-MODIFIED:20240326T193502Z
UID:38532-1712741400-1712745000@kipconengineering.com
SUMMARY:Water Infiltration
DESCRIPTION:Water infiltration is a concern for many communities. It is an uncontrolled movement of water\, water vapor or moisture to areas of a building that is unwanted or undesirable. In this seminar we will discuss what water infiltration is\, what it looks like in your building\, how to identify problems\, and give solutions for water infiltration issues. \n\n\n\n\nPresented by: John Stevens \nClick Here to Register: https://us02web.zoom.us/meeting/register/tZIvc-2grT0iE91Fo2BL7yAuc–2iPgEv6Vb \nOne (1) hour Continuing Education Credits will be offered \n			\n			\n				\n				\n				\n				\n			\n				\n				\n				\n				\n				\n				\n				\n				\n				\n				\n				\n			\n			\n				\n				\n				\n				\n				\n				\n				\n				\n				\n				About the Speaker\nMr. Stevens has been working in the engineering industry for more than 35 years – 33 of those years have been with Kipcon Incorporated. He specializes in inspections for both new construction and existing buildings. Mr. Stevens is able to identify construction deficiencies and then turns problems into solutions. He also understands the practical value of reserve studies and transitions\, and the importance of properly maintaining ownership assets. \nMr. Stevens is recognized by his peers as an industry expert in cost estimating and general construction knowledge\, and is a valuable asset to the Kipcon team.
URL:https://kipconengineering.com/event/water-infiltration
ATTACH;FMTTYPE=image/jpeg:https://kipconengineering.com/wp-content/uploads/2022/04/banking-inpsections.jpg
END:VEVENT
END:VCALENDAR