BEGIN:VCALENDAR
VERSION:2.0
PRODID:-//Kipcon - ECPv6.15.20//NONSGML v1.0//EN
CALSCALE:GREGORIAN
METHOD:PUBLISH
X-WR-CALNAME:Kipcon
X-ORIGINAL-URL:https://kipconengineering.com
X-WR-CALDESC:Events for Kipcon
REFRESH-INTERVAL;VALUE=DURATION:PT1H
X-Robots-Tag:noindex
X-PUBLISHED-TTL:PT1H
BEGIN:VTIMEZONE
TZID:Asia/Karachi
BEGIN:STANDARD
TZOFFSETFROM:+0500
TZOFFSETTO:+0500
TZNAME:PKT
DTSTART:20230101T000000
END:STANDARD
END:VTIMEZONE
BEGIN:VEVENT
DTSTART;TZID=Asia/Karachi:20240725T093000
DTEND;TZID=Asia/Karachi:20240725T103000
DTSTAMP:20260424T160707
CREATED:20240708T170028Z
LAST-MODIFIED:20240717T142322Z
UID:43920-1721899800-1721903400@kipconengineering.com
SUMMARY:Reserve Studies are the Foundation of Your Community
DESCRIPTION:KIPCON’s NJ Legislation Summer Webinar Series – Session #2\nIn this illuminating Case Study Webinar\, we will walk you through real life examples of how a Reserve Study site visit progressed into vital Engineering Inspections and ultimately led to improvement project(s) that saved and enhanced these communities. This webinar will emphasize how proper engineering inspections and professionals can save your building(s) starting with just a Reserve Study. \nPresented by:  Mitch Frumkin\, PE\, RS \nUse This Link to Join: https://us02web.zoom.us/j/88110206163?pwd=4Of7esbsvCXm21Ghjy3I5Z7faH5oh9.1 \n\n			\n			\n				\n				\n				\n				\n			\n				\n				\n				\n				\n				\n				\n				\n				\n				\n				\n				*For Managers\, Board Members\, and Homeowners Only \n			\n			\n				\n				\n				\n				\n			\n				\n				\n				\n				\n				\n				\n				\n				\n				\n				\n				\nWinner of this raffle will receive 5% off their next Kipcon Reserve Study (can be applied to either a standard Reserve Study or Kipcon Reserve Study+)\n\n* 1 Time Use Only* Cannot Be Applied to Previously Completed Project* Nontransferable* Cannot Combine With Other Discounts \n\nAttend this webinar until the end to be entered into this raffle (5 summer webinars = 5 chances to win)\nWinner will be announced following the webinar\n\n			\n			\n				\n				\n				\n				\n				\n				\n				\n				\n				\n				\n			\n			\n				\n				\n				\n				\n			\n				\n				\n				\n				\n				\n				\n				\n				\n				\n				\n				\n			\n			\n				\n				\n				\n				\n				\n				\n				\n				\n				\n				About the Speaker\nKipcon’s founder Mitchell H. Frumkin\, PE\, RS recently cochaired CAI’s recent Public Policy Task Force dealing with Building Maintenance and Structural Integrity and is currently speaking at a number of national programs on the topic of Building Safety. \nHe previously Chaired the Task Force which developed the National Reserve Study Standards of the Community Association Institute (CAI) as well as the Task Force which developed the Best Practices paper on Transition. \n			\n			\n				\n				\n				\n				\n			\n				\n				\n				\n				\n				\n				\n				\n				\n				\n				\n				Interested in Kipcon’s upcoming webinars? Click here to sign up for our newsletter! \n 
URL:https://kipconengineering.com/event/reserve-studies-foundation-of-your-community
ATTACH;FMTTYPE=image/jpeg:https://kipconengineering.com/wp-content/uploads/2021/06/Opt-Kipcon-Engineering-_-North-Brunswick-New-Jersey-33.jpg
END:VEVENT
END:VCALENDAR