BEGIN:VCALENDAR
VERSION:2.0
PRODID:-//Kipcon - ECPv6.15.20//NONSGML v1.0//EN
CALSCALE:GREGORIAN
METHOD:PUBLISH
X-WR-CALNAME:Kipcon
X-ORIGINAL-URL:https://kipconengineering.com
X-WR-CALDESC:Events for Kipcon
REFRESH-INTERVAL;VALUE=DURATION:PT1H
X-Robots-Tag:noindex
X-PUBLISHED-TTL:PT1H
BEGIN:VTIMEZONE
TZID:America/New_York
BEGIN:DAYLIGHT
TZOFFSETFROM:-0500
TZOFFSETTO:-0400
TZNAME:EDT
DTSTART:20240310T070000
END:DAYLIGHT
BEGIN:STANDARD
TZOFFSETFROM:-0400
TZOFFSETTO:-0500
TZNAME:EST
DTSTART:20241103T060000
END:STANDARD
BEGIN:DAYLIGHT
TZOFFSETFROM:-0500
TZOFFSETTO:-0400
TZNAME:EDT
DTSTART:20250309T070000
END:DAYLIGHT
BEGIN:STANDARD
TZOFFSETFROM:-0400
TZOFFSETTO:-0500
TZNAME:EST
DTSTART:20251102T060000
END:STANDARD
BEGIN:DAYLIGHT
TZOFFSETFROM:-0500
TZOFFSETTO:-0400
TZNAME:EDT
DTSTART:20260308T070000
END:DAYLIGHT
BEGIN:STANDARD
TZOFFSETFROM:-0400
TZOFFSETTO:-0500
TZNAME:EST
DTSTART:20261101T060000
END:STANDARD
END:VTIMEZONE
BEGIN:VEVENT
DTSTART;TZID=America/New_York:20250618T093000
DTEND;TZID=America/New_York:20250618T103000
DTSTAMP:20260421T005050
CREATED:20250106T165141Z
LAST-MODIFIED:20250106T171240Z
UID:44977-1750239000-1750242600@kipconengineering.com
SUMMARY:How To Read & Understand Blueprints
DESCRIPTION:If you are involved with the replacement and update of common elements of your community\, the ability to read and understand blueprints is critical. This knowledge is needed not only when the plans are used for bidding projects but also during construction when the work is taking place. In this webinar you will learn how to read and understand what is and what is not included with the blueprints. \nPresented by:  Melissa J. Wrubel\, PE\, RS \nClick Here to Register: https://us02web.zoom.us/meeting/register/mkeQECPRTHqZe7ILEZixoA \nOne (1) hour Continuing Education Credits will be offered \n\n			\n			\n				\n				\n				\n				\n			\n				\n				\n			\n				\n				\n				\n				\n				\n				\n				\n				\n				\n				\n				\n				\n				\n				\n				\n				\n				\n				About the Speaker\n			\n			\n				\n				\n				\n				\n			\n				\n				\n				\n				\n				\n				\n				\n				\n				\n				\n				\n			\n			\n				\n				\n				\n				\n				\n				\n				\n				\n				\n				Melissa J. Wrubel\, PE\, RS\nMs. Wrubel is a licensed Professional Engineer with 35 years of experience in the field of commercial and planned residential design and development. Ms. Wrubel has worked with commercial clients\, developers and multi-family communities to develop new projects\, improve existing facilities\, find cost-effective solutions to construction deficiencies\, provide litigation support and manage risk exposure. \n\n\n\n			\n			\n				\n				\n				\n				\n			\n				\n				\n				\n				\n				\n				\n				\n				\n				\n				\n				Interested in Kipcon’s upcoming webinars? Click here to sign up for our newsletter!
URL:https://kipconengineering.com/event/how-to-read-understand-blueprints
ATTACH;FMTTYPE=image/jpeg:https://kipconengineering.com/wp-content/uploads/2022/06/blueprints3.jpg
END:VEVENT
END:VCALENDAR