BEGIN:VCALENDAR
VERSION:2.0
PRODID:-//Kipcon - ECPv6.15.20//NONSGML v1.0//EN
CALSCALE:GREGORIAN
METHOD:PUBLISH
X-ORIGINAL-URL:https://kipconengineering.com
X-WR-CALDESC:Events for Kipcon
REFRESH-INTERVAL;VALUE=DURATION:PT1H
X-Robots-Tag:noindex
X-PUBLISHED-TTL:PT1H
BEGIN:VTIMEZONE
TZID:America/New_York
BEGIN:DAYLIGHT
TZOFFSETFROM:-0500
TZOFFSETTO:-0400
TZNAME:EDT
DTSTART:20240310T070000
END:DAYLIGHT
BEGIN:STANDARD
TZOFFSETFROM:-0400
TZOFFSETTO:-0500
TZNAME:EST
DTSTART:20241103T060000
END:STANDARD
BEGIN:DAYLIGHT
TZOFFSETFROM:-0500
TZOFFSETTO:-0400
TZNAME:EDT
DTSTART:20250309T070000
END:DAYLIGHT
BEGIN:STANDARD
TZOFFSETFROM:-0400
TZOFFSETTO:-0500
TZNAME:EST
DTSTART:20251102T060000
END:STANDARD
BEGIN:DAYLIGHT
TZOFFSETFROM:-0500
TZOFFSETTO:-0400
TZNAME:EDT
DTSTART:20260308T070000
END:DAYLIGHT
BEGIN:STANDARD
TZOFFSETFROM:-0400
TZOFFSETTO:-0500
TZNAME:EST
DTSTART:20261101T060000
END:STANDARD
END:VTIMEZONE
BEGIN:VEVENT
DTSTART;TZID=America/New_York:20250716T093000
DTEND;TZID=America/New_York:20250716T103000
DTSTAMP:20260421T022100
CREATED:20250106T170948Z
LAST-MODIFIED:20250106T171201Z
UID:44994-1752658200-1752661800@kipconengineering.com
SUMMARY:Best Practices Report on Maintenance & Reserve Study Standards: How Do They Connect and What Do They Change?
DESCRIPTION:In this session\, we will delve into the critical relationship between reserves and maintenance\, exploring how they are interconnected and vital for the long-term sustainability of building operations. A key focus will be on how the new Reserve Study Standards provide a structured framework for understanding and managing these elements more effectively. We will explain how these updated standards not only improve the accuracy and efficiency of reserve planning but also help reduce overall costs rather than increasing them. By adopting these standards\, building owners and managers can ensure better financial planning and more effective maintenance practices. Additionally\, we will discuss how the public policy recommendations put forward by the Community Associations Institute (CAI) serve as the foundation for these initiatives\, offering a solid basis for promoting best practices in reserve studies and maintenance management across the industry. \nPresented by: Mitchell Frumkin\, PE\, RS & Seth Frumkin \nUse This Link to Join: https://us02web.zoom.us/meeting/register/E9-fO99LTbi5KjvKOgR_Ww \nOne (1) hour Continuing Education Credits will be offered \n			\n			\n				\n				\n				\n				\n			\n				\n				\n			\n				\n				\n				\n				\n				\n				\n				\n				\n				\n				\n				\n				\n				\n				\n				\n				\n				\n				About the Speakers\n			\n			\n				\n				\n				\n				\n			\n				\n				\n				\n				\n				\n				\n				\n				\n				\n				\n				\n			\n			\n				\n				\n				\n				\n				\n				\n				\n				\n				\n				Mitchell H. Frumkin\, PE\, RS\nKipcon’s founder Mitchell H. Frumkin\, PE\, RS recently cochaired CAI’s recent Public Policy Task Force dealing with Building Maintenance and Structural Integrity and is currently speaking at a number of national programs on the topic of Building Safety. \nHe previously Chaired the Task Force which developed  the National Reserve Study Standards of the Community Association Institute (CAI) as well as the Task Force which developed the Best Practices paper on Transition. \n			\n			\n				\n				\n				\n				\n			\n				\n				\n				\n				\n				\n				\n				\n				\n				\n				\n				\n			\n			\n				\n				\n				\n				\n				\n				\n				\n				\n				\n				Seth Frumkin\nSeth Frumkin\, President of Kipcon\, is the eldest son of the company’s founder\, Mitch Frumkin\, PE\, RS. Joining Kipcon in 2014 as a Project Manager\, Seth has spent over a decade working on diverse projects for a wide range of clients\, gaining valuable expertise and a unique perspective in the engineering field. \nA graduate of Lehigh University with a Bachelor of Science degree\, Seth’s leadership and interpersonal skills have made a significant impact on Kipcon’s success and will continue to drive its future growth. \n			\n			\n				\n				\n				\n				\n			\n				\n				\n				\n				\n				\n				\n				\n				\n				\n				\n				Interested in Kipcon’s upcoming webinars? Click here to sign up for our newsletter!
URL:https://kipconengineering.com/event/best-practices-report-on-maintenance-2025
ATTACH;FMTTYPE=image/png:https://kipconengineering.com/wp-content/uploads/2024/01/reserve-study-manuals-kipcon.png
END:VEVENT
END:VCALENDAR