BEGIN:VCALENDAR
VERSION:2.0
PRODID:-//Kipcon - ECPv6.15.20//NONSGML v1.0//EN
CALSCALE:GREGORIAN
METHOD:PUBLISH
X-ORIGINAL-URL:https://kipconengineering.com
X-WR-CALDESC:Events for Kipcon
REFRESH-INTERVAL;VALUE=DURATION:PT1H
X-Robots-Tag:noindex
X-PUBLISHED-TTL:PT1H
BEGIN:VTIMEZONE
TZID:America/New_York
BEGIN:DAYLIGHT
TZOFFSETFROM:-0500
TZOFFSETTO:-0400
TZNAME:EDT
DTSTART:20250309T070000
END:DAYLIGHT
BEGIN:STANDARD
TZOFFSETFROM:-0400
TZOFFSETTO:-0500
TZNAME:EST
DTSTART:20251102T060000
END:STANDARD
BEGIN:DAYLIGHT
TZOFFSETFROM:-0500
TZOFFSETTO:-0400
TZNAME:EDT
DTSTART:20260308T070000
END:DAYLIGHT
BEGIN:STANDARD
TZOFFSETFROM:-0400
TZOFFSETTO:-0500
TZNAME:EST
DTSTART:20261101T060000
END:STANDARD
BEGIN:DAYLIGHT
TZOFFSETFROM:-0500
TZOFFSETTO:-0400
TZNAME:EDT
DTSTART:20270314T070000
END:DAYLIGHT
BEGIN:STANDARD
TZOFFSETFROM:-0400
TZOFFSETTO:-0500
TZNAME:EST
DTSTART:20271107T060000
END:STANDARD
END:VTIMEZONE
BEGIN:VEVENT
DTSTART;TZID=America/New_York:20260826T093000
DTEND;TZID=America/New_York:20260826T103000
DTSTAMP:20260423T113909
CREATED:20251209T184008Z
LAST-MODIFIED:20260212T234642Z
UID:47603-1787736600-1787740200@kipconengineering.com
SUMMARY:Choosing the Right Reserve Study & Adequacy
DESCRIPTION:We will be discussing how to develop a comprehensive Reserve Funding Policy for your community—one that ensures adequate funding while minimizing financial risk. This program will cover the key components of a Reserve Study\, including what it entails\, how it functions\, and why it is essential for long-term planning. We will also explore the critical relationship between reserve funding\, routine maintenance\, and structural adequacy\, helping you understand how these elements work together to support the long-term health and sustainability of your property. \n\n\n\n\n\n\n \n\n\nPresented by:  Brandon Femia\, RS \nUse This Link to Join: https://us02web.zoom.us/meeting/register/DTPcu6fXRka00MVxmv3Xdg \nOne (1) hour Continuing Education Credits will be offered \n\n			\n			\n				\n				\n				\n				\n			\n				\n				\n			\n				\n				\n				\n				\n				\n				\n				\n				\n				\n				\n				\n				\n				\n				\n				\n				\n				\n				About the Speakers\n			\n			\n				\n				\n				\n				\n			\n				\n				\n				\n				\n				\n				\n				\n				\n				\n				\n				\n			\n			\n				\n				\n				\n				\n				\n				\n				\n				\n				\n				Brandon Femia\, RS\nBrandon Femia is adept at preparing Reserve Studies\, Transition Studies\, Preventive Maintenance Schedules\, Cost Estimates\, Operating Manuals and physical and financial assessments for community associations. He is also qualified to conduct site inspections for both new construction and existing buildings. Brandon has been with Kipcon Inc. for over 15 years and is a valuable member of the Kipcon team. \n			\n			\n				\n				\n				\n				\n			\n				\n				\n				\n				\n				\n				\n				\n				\n				\n				\n				Interested in Kipcon’s upcoming webinars? Click here to sign up for our newsletter!
URL:https://kipconengineering.com/event/choosing-the-right-reserve-study-adequacy-2026
ATTACH;FMTTYPE=image/jpeg:https://kipconengineering.com/wp-content/uploads/2021/08/v2Kipcon-Engineering-_-North-Brunswick-New-Jersey-32.jpg
END:VEVENT
END:VCALENDAR