BEGIN:VCALENDAR
VERSION:2.0
PRODID:-//Kipcon - ECPv6.15.20//NONSGML v1.0//EN
CALSCALE:GREGORIAN
METHOD:PUBLISH
X-WR-CALNAME:Kipcon
X-ORIGINAL-URL:https://kipconengineering.com
X-WR-CALDESC:Events for Kipcon
REFRESH-INTERVAL;VALUE=DURATION:PT1H
X-Robots-Tag:noindex
X-PUBLISHED-TTL:PT1H
BEGIN:VTIMEZONE
TZID:Asia/Karachi
BEGIN:STANDARD
TZOFFSETFROM:+0500
TZOFFSETTO:+0500
TZNAME:PKT
DTSTART:20230101T000000
END:STANDARD
END:VTIMEZONE
BEGIN:VEVENT
DTSTART;TZID=Asia/Karachi:20240801T093000
DTEND;TZID=Asia/Karachi:20240801T103000
DTSTAMP:20260424T160717
CREATED:20240708T170534Z
LAST-MODIFIED:20240717T142351Z
UID:43924-1722504600-1722508200@kipconengineering.com
SUMMARY:Structural Integrity Inspections for Covered Buildings
DESCRIPTION:KIPCON’s NJ Legislation Summer Webinar Series – Session #3\nIn this webinar\, we will be discussing the structural integrity inspection portion of the New Jersey legislation. We will answer all of your pressing questions…  What types of buildings are included? Is my building included? Can these routine inspections extend the building’s life? \nPresented by:  Mitch Frumkin\, PE\, RS \nUse This Link to Join: https://us02web.zoom.us/j/84341413649?pwd=Igea8UugnP30X6bLHlRicxXSMOCk71.1 \n\n			\n			\n				\n				\n				\n				\n			\n				\n				\n				\n				\n				\n				\n				\n				\n				\n				\n				*For Managers\, Board Members\, and Homeowners Only \n			\n			\n				\n				\n				\n				\n			\n				\n				\n				\n				\n				\n				\n				\n				\n				\n				\n				\nWinner of this raffle will receive 5% off their next Kipcon Reserve Study (can be applied to either a standard Reserve Study or Kipcon Reserve Study+)\n\n* 1 Time Use Only* Cannot Be Applied to Previously Completed Project* Nontransferable* Cannot Combine With Other Discounts \n\nAttend this webinar until the end to be entered into this raffle (5 summer webinars = 5 chances to win)\nWinner will be announced following the webinar\n\n			\n			\n				\n				\n				\n				\n				\n				\n				\n				\n				\n				\n			\n			\n				\n				\n				\n				\n			\n				\n				\n				\n				\n				\n				\n				\n				\n				\n				\n				\n			\n			\n				\n				\n				\n				\n				\n				\n				\n				\n				\n				About the Speaker\nKipcon’s founder Mitchell H. Frumkin\, PE\, RS recently cochaired CAI’s recent Public Policy Task Force dealing with Building Maintenance and Structural Integrity and is currently speaking at a number of national programs on the topic of Building Safety. \nHe previously Chaired the Task Force which developed the National Reserve Study Standards of the Community Association Institute (CAI) as well as the Task Force which developed the Best Practices paper on Transition. \n			\n			\n				\n				\n				\n				\n			\n				\n				\n				\n				\n				\n				\n				\n				\n				\n				\n				Interested in Kipcon’s upcoming webinars? Click here to sign up for our newsletter! \n 
URL:https://kipconengineering.com/event/structural-integrity-inspections-for-covered-buildings
ATTACH;FMTTYPE=image/jpeg:https://kipconengineering.com/wp-content/uploads/2024/06/iStock-522675447.jpg
END:VEVENT
BEGIN:VEVENT
DTSTART;TZID=Asia/Karachi:20240807T093000
DTEND;TZID=Asia/Karachi:20240807T103000
DTSTAMP:20260424T160717
CREATED:20231219T195722Z
LAST-MODIFIED:20240717T142812Z
UID:38739-1723023000-1723026600@kipconengineering.com
SUMMARY:Choosing the Right Reserve Study & Adequacy
DESCRIPTION:KIPCON’S NJ Legislation Summer Webinar Series – Session #4\nWe will be discussing how to develop a Reserve Funding policy for your community which provides both adequate funding and minimal risk. This program will include what a Reserve Study includes and how it works. The relationship between reserves\, maintenance and structural adequacy will be discussed. Mitch Frumkin\, President of Kipcon has headed up the national task forces which initially developed and recently updated the National Reserve Study Standards of the Community Associations. He currently co-chairs a task force which is reviewing these standards and their relationship to maintenance and structural adequacy. \nPresented by:  Mitch Frumkin\, PE\, RS \nUse This Link to Join: https://us02web.zoom.us/meeting/register/tZMrf-2vrjkuGNaYXwNL4oXfsxJDkOTlJ9XG \nOne (1) hour Continuing Education Credits will be offered \n \n \n*For Managers\, Board Members\, and Homeowners Only \n\n			\n			\n				\n				\n				\n				\n			\n				\n				\n				\n				\n				\n				\n				\n				\n				\n				\n				\nWinner of this raffle will receive 5% off their next Kipcon Reserve Study (can be applied to either a standard Reserve Study or Kipcon Reserve Study+)\n\n* 1 Time Use Only* Cannot Be Applied to Previously Completed Project* Nontransferable* Cannot Combine With Other Discounts \n\nAttend this webinar until the end to be entered into this raffle (5 summer webinars = 5 chances to win)\nWinner will be announced following the webinar\n\n			\n			\n				\n				\n				\n				\n				\n				\n				\n				\n				\n				\n			\n			\n				\n				\n				\n				\n			\n				\n				\n				\n				\n				\n				\n				\n				\n				\n				\n				\n			\n			\n				\n				\n				\n				\n				\n				\n				\n				\n				\n				About the Speaker\nKipcon’s founder Mitchell H. Frumkin\, PE\, RS recently cochaired CAI’s recent Public Policy Task Force dealing with Building Maintenance and Structural Integrity and is currently speaking at a number of national programs on the topic of Building Safety. \nHe previously Chaired the Task Force which developed the National Reserve Study Standards of the Community Association Institute (CAI) as well as the Task Force which developed the Best Practices paper on Transition. \n			\n			\n				\n				\n				\n				\n			\n				\n				\n				\n				\n				\n				\n				\n				\n				\n				\n				Interested in Kipcon’s upcoming webinars? Click here to sign up for our newsletter! \n 
URL:https://kipconengineering.com/event/choosing-the-right-reserve-study-adequacy
ATTACH;FMTTYPE=image/jpeg:https://kipconengineering.com/wp-content/uploads/2021/08/v2Kipcon-Engineering-_-North-Brunswick-New-Jersey-32.jpg
END:VEVENT
BEGIN:VEVENT
DTSTART;TZID=Asia/Karachi:20240815T093000
DTEND;TZID=Asia/Karachi:20240815T103000
DTSTAMP:20260424T160717
CREATED:20240708T181523Z
LAST-MODIFIED:20240717T142401Z
UID:43938-1723714200-1723717800@kipconengineering.com
SUMMARY:Making Sense of Your Reserve Study
DESCRIPTION:KIPCON’s NJ Legislation Summer Webinar Series – Session #5\nWrapping up our Summer Webinar Series\, we want to help you understand your reserve study and how to best interpret all the information in the document that was prepared for your Association. We will show you through examples what exactly you are looking at and answer any general or specific questions you have about YOUR studies. \nPresented by:  Mitch Frumkin\, PE\, RS \nUse This Link to Join: https://us02web.zoom.us/j/83166677749?pwd=sMzzktbVkzqzxR3CS76vpAPDDeavLa.1 \n\n			\n			\n				\n				\n				\n				\n			\n				\n				\n				\n				\n				\n				\n				\n				\n				\n				\n				*For Managers\, Board Members\, and Homeowners Only \n			\n			\n				\n				\n				\n				\n			\n				\n				\n				\n				\n				\n				\n				\n				\n				\n				\n				\nWinner of this raffle will receive 5% off their next Kipcon Reserve Study (can be applied to either a standard Reserve Study or Kipcon Reserve Study+)\n\n* 1 Time Use Only* Cannot Be Applied to Previously Completed Project* Nontransferable* Cannot Combine With Other Discounts \n\nAttend this webinar until the end to be entered into this raffle (5 summer webinars = 5 chances to win)\nWinner will be announced following the webinar\n\n			\n			\n				\n				\n				\n				\n				\n				\n				\n				\n				\n				\n			\n			\n				\n				\n				\n				\n			\n				\n				\n				\n				\n				\n				\n				\n				\n				\n				\n				\n			\n			\n				\n				\n				\n				\n				\n				\n				\n				\n				\n				About the Speaker\nKipcon’s founder Mitchell H. Frumkin\, PE\, RS recently cochaired CAI’s recent Public Policy Task Force dealing with Building Maintenance and Structural Integrity and is currently speaking at a number of national programs on the topic of Building Safety. \nHe previously Chaired the Task Force which developed the National Reserve Study Standards of the Community Association Institute (CAI) as well as the Task Force which developed the Best Practices paper on Transition. \n			\n			\n				\n				\n				\n				\n			\n				\n				\n				\n				\n				\n				\n				\n				\n				\n				\n				Interested in Kipcon’s upcoming webinars? Click here to sign up for our newsletter! \n 
URL:https://kipconengineering.com/event/making-sense-of-your-reserve-study
ATTACH;FMTTYPE=image/png:https://kipconengineering.com/wp-content/uploads/2024/01/reserve-study-manuals-kipcon.png
END:VEVENT
END:VCALENDAR