BEGIN:VCALENDAR
VERSION:2.0
PRODID:-//Kipcon - ECPv6.15.20//NONSGML v1.0//EN
CALSCALE:GREGORIAN
METHOD:PUBLISH
X-WR-CALNAME:Kipcon
X-ORIGINAL-URL:https://kipconengineering.com
X-WR-CALDESC:Events for Kipcon
REFRESH-INTERVAL;VALUE=DURATION:PT1H
X-Robots-Tag:noindex
X-PUBLISHED-TTL:PT1H
BEGIN:VTIMEZONE
TZID:America/New_York
BEGIN:DAYLIGHT
TZOFFSETFROM:-0500
TZOFFSETTO:-0400
TZNAME:EDT
DTSTART:20240310T070000
END:DAYLIGHT
BEGIN:STANDARD
TZOFFSETFROM:-0400
TZOFFSETTO:-0500
TZNAME:EST
DTSTART:20241103T060000
END:STANDARD
BEGIN:DAYLIGHT
TZOFFSETFROM:-0500
TZOFFSETTO:-0400
TZNAME:EDT
DTSTART:20250309T070000
END:DAYLIGHT
BEGIN:STANDARD
TZOFFSETFROM:-0400
TZOFFSETTO:-0500
TZNAME:EST
DTSTART:20251102T060000
END:STANDARD
BEGIN:DAYLIGHT
TZOFFSETFROM:-0500
TZOFFSETTO:-0400
TZNAME:EDT
DTSTART:20260308T070000
END:DAYLIGHT
BEGIN:STANDARD
TZOFFSETFROM:-0400
TZOFFSETTO:-0500
TZNAME:EST
DTSTART:20261101T060000
END:STANDARD
END:VTIMEZONE
BEGIN:VEVENT
DTSTART;TZID=America/New_York:20250820T093000
DTEND;TZID=America/New_York:20250820T093000
DTSTAMP:20260421T022208
CREATED:20250106T184457Z
LAST-MODIFIED:20250730T145117Z
UID:45008-1755682200-1755682200@kipconengineering.com
SUMMARY:Choosing the Right Reserve Study & Adequacy
DESCRIPTION:Brandon Femia\, Reserve Study Manager of Kipcon\, will be presenting this webinar and discussing how to develop a Reserve Funding policy for your community which provides both adequate funding and minimal risk. This program will include what a Reserve Study includes and how it works. The relationship between reserves\, maintenance and structural adequacy will also be discussed. \n\n\n\n\n\n\n\n\n\nPresented by:  Brandon Femia\, RS \nUse This Link to Join: https://us02web.zoom.us/meeting/register/9JIBO24ORuewPwajKuXAqw \nOne (1) hour Continuing Education Credits will be offered \n \n\n			\n			\n				\n				\n				\n				\n			\n				\n				\n			\n				\n				\n				\n				\n				\n				\n				\n				\n				\n				\n				\n				\n				\n				\n				\n				\n				\n				About the Speakers\n			\n			\n				\n				\n				\n				\n			\n				\n				\n				\n				\n				\n				\n				\n				\n				\n				\n				\n			\n			\n				\n				\n				\n				\n				\n				\n				\n				\n				\n				Brandon Femia\, RS\nBrandon Femia is adept at preparing Reserve Studies\, Transition Studies\, Preventive Maintenance Schedules\, Cost Estimates\, Operating Manuals and physical and financial assessments for community associations. He is also qualified to conduct site inspections for both new construction and existing buildings. Brandon has been with Kipcon Inc. for over 15 years and is a valuable member of the Kipcon team. \n			\n			\n				\n				\n				\n				\n			\n				\n				\n				\n				\n				\n				\n				\n				\n				\n				\n				Interested in Kipcon’s upcoming webinars? Click here to sign up for our newsletter!
URL:https://kipconengineering.com/event/choosing-the-right-reserve-study-adequacy-2025
ATTACH;FMTTYPE=image/jpeg:https://kipconengineering.com/wp-content/uploads/2021/08/v2Kipcon-Engineering-_-North-Brunswick-New-Jersey-32.jpg
END:VEVENT
END:VCALENDAR